BEGIN:VCALENDAR
VERSION:2.0
PRODID:-//hacksw/handcal//NONSGML v1.0//EN
CALSCALE:GREGORIAN
BEGIN:VEVENT
DTEND:20260314T043000Z
UID:69e737c2482e0
DTSTAMP:20260421T083930Z
LOCATION:39 Boulevard des Bois Francs S\, Victoriaville\, QC G6P 4S4
DESCRIPTION:Le trio hip-hop&nbsp\;LaF&nbsp\;et le groupe de hip-hop/jazz&nbsp\;Original Gros Bonnet\, complices de longue date\, joignent leurs forces pour un spectacle in&eacute\;dit. Ce&nbsp\;plateau double\, o&ugrave\; chaque groupe livre son univers riche et dansant\, comptera &eacute\;galement des collaborations surprises reliant les deux sets. Le r&eacute\;sultat : une performance &eacute\;nergique\, festive et rassembleuse o&ugrave\; la fougue\, le talent et la complicit&eacute\; prennent toute la place sur sc&egrave\;ne.
URL;VALUE=URI:https://www.cactusrestobar.com/spectacles/laf-original-gros-bonnet/
SUMMARY:LaF + Original Gros Bonnet
DTSTART:20260314T013000Z
END:VEVENT
END:VCALENDAR
