BEGIN:VCALENDAR
VERSION:2.0
PRODID:-//hacksw/handcal//NONSGML v1.0//EN
CALSCALE:GREGORIAN
BEGIN:VEVENT
DTEND:20260321T043000Z
UID:69e887bb84797
DTSTAMP:20260422T083259Z
LOCATION:39 Boulevard des Bois Francs S\, Victoriaville\, QC G6P 4S4
DESCRIPTION:
URL;VALUE=URI:https://www.cactusrestobar.com/spectacles/hommages-a-guns-n-roses-et-motley-crue/
SUMMARY:Hommages à Guns N' Roses et Mötley Crüe
DTSTART:20260321T013000Z
END:VEVENT
END:VCALENDAR
